BEGIN:VCALENDAR
VERSION:2.0
PRODID:-//hacksw/handcal//NONSGML v1.0//EN
BEGIN:VEVENT
SUMMARY:- 13 ans MASCULIN se deplace chez PONTAULT-COMBAULT HANDBALL
UID:16c4fbd2-7faa-4ae1-8504-6489a284ea2a
DTSTART:20260418T130000Z
DTEND:20260418T160000Z
LOCATION:Localisation espace roger-boisrame   89 avenue charles-rouxel 77340 PONTAULT COMBAULT
CATEGORIES:Sportif
STATUS:
DESCRIPTION:<p>Rendez-vous au gymnase CHEVREUL: 13h45</p>
 
 <p>Prevoir
 chasuble</p>
URL;VALUE=URI:https://www.calhay-handball.org/evenements/2026/04/18/13-ans-masculin-se-deplace-chez-pontault-combault-handball-2441679
END:VEVENT
END:VCALENDAR
