BEGIN:VCALENDAR
VERSION:2.0
PRODID:-//hacksw/handcal//NONSGML v1.0//EN
BEGIN:VEVENT
SUMMARY:- 18 ans MASCULIN recoit US CRETEIL HB
UID:5375db07-d57f-479c-bc63-6dee48133351
DTSTART:20260418T123000Z
DTEND:20260418T140000Z
LOCATION:Gymnase Chevreul 139  boulevard Paul Vaillant Couturier 94240 L'Hay les Roses
CATEGORIES:Sportif
STATUS:
DESCRIPTION:<p>Rendez-vous au gymnase CHEVREUL: 13h30</p>
URL;VALUE=URI:https://www.calhay-handball.org/evenements/2026/04/18/18-ans-masculin-recoit-us-creteil-hb-2441623
END:VEVENT
END:VCALENDAR
