BEGIN:VCALENDAR
VERSION:2.0
PRODID:-//hacksw/handcal//NONSGML v1.0//EN
BEGIN:VEVENT
SUMMARY:- 18 ans FEMININ se deplace chez HBC ARCUEIL
UID:ac8e7533-3fec-4946-9794-f7e4504ca5ff
DTSTART:20260419T143000Z
DTEND:20260419T153000Z
LOCATION:Localisation VINCENT RASPAIL   56  avenue francois vincent raspail 94110 ARCUEIL
CATEGORIES:Sportif
STATUS:
DESCRIPTION:<p>Rendez-vous au gymnase CHEVREUL: 15h15</p>
URL;VALUE=URI:https://www.calhay-handball.org/evenements/2026/04/19/18-ans-feminin-se-deplace-chez-hbc-arcueil-2441627
END:VEVENT
END:VCALENDAR
